BEGIN:VCALENDAR
VERSION:2.0
PRODID:-//Bushfire Cairns - ECPv6.15.20//NONSGML v1.0//EN
CALSCALE:GREGORIAN
METHOD:PUBLISH
X-ORIGINAL-URL:https://bushfirecairns.com
X-WR-CALDESC:Events for Bushfire Cairns
REFRESH-INTERVAL;VALUE=DURATION:PT1H
X-Robots-Tag:noindex
X-PUBLISHED-TTL:PT1H
BEGIN:VTIMEZONE
TZID:UTC
BEGIN:STANDARD
TZOFFSETFROM:+0000
TZOFFSETTO:+0000
TZNAME:UTC
DTSTART:20240101T000000
END:STANDARD
END:VTIMEZONE
BEGIN:VEVENT
DTSTART;TZID=UTC:20260401T170000
DTEND;TZID=UTC:20260416T203000
DTSTAMP:20260421T124945
CREATED:20260326T031756Z
LAST-MODIFIED:20260326T035744Z
UID:10001944-1775062800-1776371400@bushfirecairns.com
SUMMARY:Kids Eat Free Easter School Holidays
DESCRIPTION:Make the Easter School Holidays stress-free and delicious at Bushfire Cairns! \nApril 1st to 16th\, kids eat FREE with any Adult Churrasco – one tasty kids’ meal for every Adult Churrasco ordered. No cooking\, no fuss\, just a perfect family night out. \nJoin us every Friday and let the little ones enjoy their favourites while you savour the full Churrasco experience. Great food\, family fun and smiles all around – we’ll take care of everything else! \nPlease note\, T&Cs apply. Available April 1st to 16th | Closed on Sundays\, Good Friday & Easter Monday. Not applicable with any other offers or discounts.
URL:https://bushfirecairns.com/offer/kids-eat-free-easter-school-holidays/
CATEGORIES:Events,Offers
ATTACH;FMTTYPE=image/png:https://bushfirecairns.com/wp-content/uploads/2026/03/Kids-Eat-Free-Website-Square-Bushfire-Instagram-Post-11.png
END:VEVENT
BEGIN:VEVENT
DTSTART;TZID=UTC:20260319T170000
DTEND;TZID=UTC:20260416T180000
DTSTAMP:20260421T124945
CREATED:20260219T220456Z
LAST-MODIFIED:20260319T052352Z
UID:10000357-1773939600-1776362400@bushfirecairns.com
SUMMARY:Early Bird Churrasco Special
DESCRIPTION:Every Tuesday\, Wednesday & Thursday dine at Bushfire between 5pm – 6pm to get $10 off per Adult Churrasco. That’s $62 pp (Usual Price $72) for a must do three course dining experience with an unlimited procession of meat skewers carved tableside. Bookings Recommended.
URL:https://bushfirecairns.com/offer/early-bird-churrasco-special/
CATEGORIES:Events,Offers
ATTACH;FMTTYPE=image/png:https://bushfirecairns.com/wp-content/uploads/2026/02/Early-Bird-Special-Bushfire-1.png
END:VEVENT
BEGIN:VEVENT
DTSTART;TZID=UTC:20260301T173000
DTEND;TZID=UTC:20260331T203000
DTSTAMP:20260421T124945
CREATED:20260219T220059Z
LAST-MODIFIED:20260219T220059Z
UID:10000354-1772386200-1774989000@bushfirecairns.com
SUMMARY:Kids Eat Free March
DESCRIPTION:Family nights just got easier at Bushfire Cairns!All through March\, kids eat FREE with any Adult Churrasco – that’s one delicious kids’ meal for every Adult Churrasco ordered. No stress\, no fuss\, just a perfect excuse to skip the cooking and treat the whole family. \nJoin us every Friday and let the little ones tuck into their favourites while you enjoy the full Churrasco experience. Great food\, family time\, and smiles all around – we’ll take care of the rest! \nT&Cs apply. Not eligible with other offers or discounts.
URL:https://bushfirecairns.com/offer/kids-eat-free-march/
CATEGORIES:Events,Offers
ATTACH;FMTTYPE=image/png:https://bushfirecairns.com/wp-content/uploads/2026/02/Kids-Eat-Free-Website-Square-Bushfire-Instagram-Post-7.png
END:VEVENT
BEGIN:VEVENT
DTSTART;TZID=UTC:20260115T173000
DTEND;TZID=UTC:20260131T200000
DTSTAMP:20260421T124945
CREATED:20260115T043241Z
LAST-MODIFIED:20260115T043241Z
UID:10000352-1768498200-1769889600@bushfirecairns.com
SUMMARY:Kids Eat Free January
DESCRIPTION:Family nights just got easier at Bushfire Cairns!All through January\, kids eat FREE with any Adult Churrasco – that’s one delicious kids’ meal for every Adult Churrasco ordered. No stress\, no fuss\, just a perfect excuse to skip the cooking and treat the whole family. \nJoin us every Friday and let the little ones tuck into their favourites while you enjoy the full Churrasco experience. Great food\, family time\, and smiles all around – we’ll take care of the rest! \nT&Cs apply. Not eligible with other offers or discounts.
URL:https://bushfirecairns.com/offer/kids-eat-free-january/
CATEGORIES:Events,Offers
ATTACH;FMTTYPE=image/png:https://bushfirecairns.com/wp-content/uploads/2026/01/Kids-Eat-Free-Website-Square-Bushfire-Instagram-Post-6.png
END:VEVENT
BEGIN:VEVENT
DTSTART;TZID=UTC:20251107T173000
DTEND;TZID=UTC:20251219T203000
DTSTAMP:20260421T124945
CREATED:20251106T011938Z
LAST-MODIFIED:20251106T030053Z
UID:10000014-1762536600-1766176200@bushfirecairns.com
SUMMARY:Kids Eat Free November
DESCRIPTION:Family nights just got easier at Bushfire Cairns!All through November\, kids eat FREE with any Adult Churrasco – that’s one delicious kids’ meal for every Adult Churrasco ordered. No stress\, no fuss\, just a perfect excuse to skip the cooking and treat the whole family. \nJoin us every Friday and let the little ones tuck into their favourites while you enjoy the full Churrasco experience. Great food\, family time\, and smiles all around – we’ll take care of the rest! \nT&Cs apply. Not eligible with other offers or discounts.
URL:https://bushfirecairns.com/offer/kids-eat-free-november/
CATEGORIES:Offers
ATTACH;FMTTYPE=image/png:https://bushfirecairns.com/wp-content/uploads/2025/11/Kids-Eat-Free-Website-Square-Bushfire-Instagram-Post-4.png
END:VEVENT
BEGIN:VEVENT
DTSTART;TZID=UTC:20251031T170000
DTEND;TZID=UTC:20251031T220000
DTSTAMP:20260421T124945
CREATED:20251010T031108Z
LAST-MODIFIED:20251010T031130Z
UID:10000013-1761930000-1761948000@bushfirecairns.com
SUMMARY:Halloween Kids Eat Free
DESCRIPTION:Get the little ghouls and goblins ready! \nJoin us for our Kid’s Eat Free Halloween Edition on October 31st from 5 PM. \nOne child eats free for every adult churrasco purchased. \nEnjoy spooky-themed drinks\, decorations\, and Halloween fun! Plus\, kids in costume receive free candy. \nOnline bookings required. Secure your spot now! \nCLICK TO BOOK NOW!
URL:https://bushfirecairns.com/offer/halloween-kids-eat-free/
ATTACH;FMTTYPE=image/png:https://bushfirecairns.com/wp-content/uploads/2025/10/Kids-Eat-Free-Halloween-Edition-Bushfire-Instagram-Post-1.png
END:VEVENT
BEGIN:VEVENT
DTSTART;TZID=UTC:20251003T080000
DTEND;TZID=UTC:20251003T170000
DTSTAMP:20260421T124945
CREATED:20251003T020042Z
LAST-MODIFIED:20251003T024427Z
UID:10000012-1759478400-1759510800@bushfirecairns.com
SUMMARY:Christmas Churrasco Packages
DESCRIPTION:Bushfire is bringing the festive cheer! Celebrate the season with our Christmas Churrasco Menu & Beverage Packages – the perfect way to gather friends\, family or colleagues for an end-of-year feast. \nPackages: \nGold Package | $119 \nSilver Package | $109 \nTeen (13–16 years) | $80 \nKids (5–12 years) | $30 \nKids 4 & under | FREE \nBookings are required.  \nT&Cs apply: All tables have a 2-hour seating time. All guests must select the same beverage package. Dietary requirements must be advised at the time of booking. Not available with any other discounts or offers. \nVIEW MENU | TO BOOK CALL (07) 4044 1879 OR EMAIL Rmanager@bushfirecairns.com
URL:https://bushfirecairns.com/offer/christmas-churrasco-packages/
CATEGORIES:Events
ATTACH;FMTTYPE=image/png:https://bushfirecairns.com/wp-content/uploads/2025/10/Christmas-Web-Size-Bushfire.png
END:VEVENT
BEGIN:VEVENT
DTSTART;TZID=UTC:20251001T080000
DTEND;TZID=UTC:20251031T170000
DTSTAMP:20260421T124945
CREATED:20250926T003849Z
LAST-MODIFIED:20250926T003849Z
UID:10000011-1759305600-1761930000@bushfirecairns.com
SUMMARY:Kids Eat Free October
DESCRIPTION:Family nights just got easier at Bushfire Cairns!All through October\, kids eat FREE with any Adult Churrasco – that’s one delicious kids’ meal for every Adult Churrasco ordered. No stress\, no fuss\, just a perfect excuse to skip the cooking and treat the whole family. \nJoin us every Tuesday to Thursday and let the little ones tuck into their favourites while you enjoy the full Churrasco experience. Great food\, family time\, and smiles all around – we’ll take care of the rest! \nT&Cs apply. Not eligible with other offers or discounts. Adult Churrasco from $72.5
URL:https://bushfirecairns.com/offer/kids-eat-free-october/
CATEGORIES:Events
ATTACH;FMTTYPE=image/png:https://bushfirecairns.com/wp-content/uploads/2025/09/Kids-Eat-Free-Website-Square-Bushfire-Instagram-Post-1.png
END:VEVENT
BEGIN:VEVENT
DTSTART;TZID=UTC:20250907T120000
DTEND;TZID=UTC:20250907T143000
DTSTAMP:20260421T124945
CREATED:20250821T005236Z
LAST-MODIFIED:20250821T005545Z
UID:10000010-1757246400-1757255400@bushfirecairns.com
SUMMARY:Father's Day Lunch
DESCRIPTION:Treat Dad to the ultimate Brazilian Churrasco experience this Father’s Day LUNCH at Bushfire Flame Grill. 🔥\n\nEnjoy endless BBQ-style skewers carved right at your table\, with a special highlight dish our mouth-watering bacon-wrapped Arlo Eye Fillet. To top it off\, every dad receives a complimentary beer!\n\nADULT $68.5 | KIDS 5-8 $15 | KIDS 9-12 $20\nAvailable for LUNCH\, 12pm – 2:30pm. Bookings Essential.\n\nCLICK TO BOOK NOW!
URL:https://bushfirecairns.com/offer/fathers-day-lunch/
ATTACH;FMTTYPE=image/png:https://bushfirecairns.com/wp-content/uploads/2025/08/Fathers-Day-Bushfire-OMG-Ads.png
END:VEVENT
BEGIN:VEVENT
DTSTART;TZID=UTC:20250901T170000
DTEND;TZID=UTC:20250930T220000
DTSTAMP:20260421T124945
CREATED:20250728T031608Z
LAST-MODIFIED:20250904T024150Z
UID:10000008-1756746000-1759269600@bushfirecairns.com
SUMMARY:Kids Eat FREE
DESCRIPTION:Family nights just got easier at Bushfire Cairns!All through September\, kids eat FREE with any Adult Churrasco – that’s one delicious kids’ meal for every Adult Churrasco ordered. No stress\, no fuss\, just a perfect excuse to skip the cooking and treat the whole family. \nJoin us every Tuesday to Thursday and let the little ones tuck into their favourites while you enjoy the full Churrasco experience. Great food\, family time\, and smiles all around – we’ll take care of the rest! \nT&Cs apply. Not eligible with other offers or discounts.
URL:https://bushfirecairns.com/offer/kids-eat-free/
CATEGORIES:Offers
ATTACH;FMTTYPE=image/png:https://bushfirecairns.com/wp-content/uploads/2025/07/Kids-Eat-Free-Website-Square-Bushfire-Instagram-Post.png
END:VEVENT
BEGIN:VEVENT
DTSTART;VALUE=DATE:20250807
DTEND;VALUE=DATE:20251225
DTSTAMP:20260421T124945
CREATED:20250822T021628Z
LAST-MODIFIED:20251003T033006Z
UID:10000009-1754524800-1766620799@bushfirecairns.com
SUMMARY:Celebration Cakes
DESCRIPTION:Celebrating a birthday\, milestone or special occasion? \nMake it extra memorable with a celebration cake\, the perfect sweet addition to your Churrasco dining experience at Bushfire. \nSimply add it to your booking as an optional upgrade online or chat with our friendly team to organise it in advance. \nT&Cs apply | Cake must be pre-booked before your dining date \n  \nCurrent Selections (subject to availability): \nFlourless Yogurt Berry Bliss – 14 pre-cut serves | $85 \nSalted Caramel with Saffron Apple Bar – 8 to 10 serves | $65 \nTropical Paradise – 9 to 12 serves | $75 \nChocolate Haven – 9 to 12 serves | $75 \nServed with a range of coloured candles and ice cream! \nFor further information\, please speak to our friendly team. Please note a $15 charge is required to bring in your own cake. \nCLICK TO BOOK!
URL:https://bushfirecairns.com/offer/celebration-cakes/
ATTACH;FMTTYPE=image/png:https://bushfirecairns.com/wp-content/uploads/2025/08/Celebration-Cakes-Bushfire.png
END:VEVENT
END:VCALENDAR