BEGIN:VCALENDAR
VERSION:2.0
PRODID:-//Bushfire Cairns - ECPv6.15.20//NONSGML v1.0//EN
CALSCALE:GREGORIAN
METHOD:PUBLISH
X-WR-CALNAME:Bushfire Cairns
X-ORIGINAL-URL:https://bushfirecairns.com
X-WR-CALDESC:Events for Bushfire Cairns
REFRESH-INTERVAL;VALUE=DURATION:PT1H
X-Robots-Tag:noindex
X-PUBLISHED-TTL:PT1H
BEGIN:VTIMEZONE
TZID:UTC
BEGIN:STANDARD
TZOFFSETFROM:+0000
TZOFFSETTO:+0000
TZNAME:UTC
DTSTART:20250101T000000
END:STANDARD
END:VTIMEZONE
BEGIN:VEVENT
DTSTART;TZID=UTC:20260424T170000
DTEND;TZID=UTC:20260424T203000
DTSTAMP:20260421T124336
CREATED:20260220T041611Z
LAST-MODIFIED:20260326T022521Z
UID:10000356-1777050000-1777062600@bushfirecairns.com
SUMMARY:The Great Australian Flame
DESCRIPTION:Bushfire brings the spirit of the legendary Australian BBQ to life with a sizzling flame-grilled churrasco experience\, celebrating the very best of local produce. \nEnjoy a three-course feast with unlimited processions for $99 per adult\, featuring Gulf of Carpentaria barramundi\, locally grown cassava chips\, royal bratwurst with Rusty’s Chilli Sauce\, handcrafted brigadeiro chocolates by Ralph Silva and more to discover. \nJoin us on Friday\, 24th April\, from 5:00– 8:30 pm for $99 per adult. \nBookings recommended. \nCLICK TO BOOK NOW!
URL:https://bushfirecairns.com/offer/the-great-australian-flame/
CATEGORIES:Events,Offers
ATTACH;FMTTYPE=image/png:https://bushfirecairns.com/wp-content/uploads/2026/02/2.png
END:VEVENT
BEGIN:VEVENT
DTSTART;TZID=UTC:20260510T120000
DTEND;TZID=UTC:20260510T143000
DTSTAMP:20260421T124336
CREATED:20260330T031801Z
LAST-MODIFIED:20260416T043414Z
UID:10001945-1778414400-1778423400@bushfirecairns.com
SUMMARY:Mother's Day Seafood Buffet
DESCRIPTION:Give Mum the thank-you she deserves with an abundant\, flame-grilled seafood buffet at Bushfire. \nFor $109 per adult\, feast on unlimited chilled and hot seafood\, including natural oysters\, barramundi laksa\, grilled tiger prawns\, salt and pepper calamari and more. \nThere’s plenty for non-seafood lovers too\, with rosemary and garlic roast lamb\, antipasto\, breads\, dips and ratatouille vegetables. Complement your selections with a fully stocked salad bar and condiment station\, then end your meal on a sweet note at the dessert bar\, featuring tiramisu\, tarts\, mudcake and other decadent treats. \nCelebrate Mum with a dining experience that’s as generous and memorable as she is. \nBookings Essential. \nAdults $109 pp | Kids Buffet $49 | Kids meals $14pp \nCLICK TO BOOK NOW!
URL:https://bushfirecairns.com/offer/mothers-day-seafood-buffet/
CATEGORIES:Events,Offers
ATTACH;FMTTYPE=image/png:https://bushfirecairns.com/wp-content/uploads/2026/03/Mothers-Day-Bushfire-1.png
END:VEVENT
END:VCALENDAR